Package: Cogito Version: 1.15.2 Command: /Library/Frameworks/R.framework/Resources/bin/R CMD build --keep-empty-dirs --no-resave-data Cogito StartedAt: 2025-10-13 16:00:22 -0400 (Mon, 13 Oct 2025) EndedAt: 2025-10-13 16:00:50 -0400 (Mon, 13 Oct 2025) EllapsedTime: 28.3 seconds RetCode: 0 Status: OK PackageFile: Cogito_1.15.2.tar.gz PackageFileSize: 869.4 KiB