Package: CoSIA Version: 1.11.1 Command: /home/biocbuild/bbs-3.23-bioc/R/bin/R CMD INSTALL CoSIA StartedAt: 2025-11-20 16:00:03 -0500 (Thu, 20 Nov 2025) EndedAt: 2025-11-20 16:00:20 -0500 (Thu, 20 Nov 2025) EllapsedTime: 17.2 seconds RetCode: 0 Status: OK