Package: CoSIA Version: 1.11.1 Command: /home/biocbuild/bbs-3.23-bioc/R/bin/R CMD build --keep-empty-dirs --no-resave-data CoSIA StartedAt: 2025-11-20 16:59:39 -0500 (Thu, 20 Nov 2025) EndedAt: 2025-11-20 17:06:14 -0500 (Thu, 20 Nov 2025) EllapsedTime: 395.4 seconds RetCode: 0 Status: OK PackageFile: CoSIA_1.11.1.tar.gz PackageFileSize: 1.166 MiB