Package: CoSIA Version: 1.9.0 Command: /Library/Frameworks/R.framework/Resources/bin/R CMD build --keep-empty-dirs --no-resave-data CoSIA StartedAt: 2025-10-24 16:04:48 -0400 (Fri, 24 Oct 2025) EndedAt: 2025-10-24 16:07:16 -0400 (Fri, 24 Oct 2025) EllapsedTime: 148.7 seconds RetCode: 0 Status: OK PackageFile: CoSIA_1.9.0.tar.gz PackageFileSize: 1.166 MiB