Package: CoGAPS Version: 3.31.0 Command: /home/biocbuild/bbs-3.23-bioc/R/bin/R CMD INSTALL CoGAPS StartedAt: 2025-11-20 15:18:47 -0500 (Thu, 20 Nov 2025) EndedAt: 2025-11-20 15:21:01 -0500 (Thu, 20 Nov 2025) EllapsedTime: 134.6 seconds RetCode: 0 Status: OK