Package: CoGAPS Version: 3.29.1 Command: /Library/Frameworks/R.framework/Resources/bin/R CMD build --keep-empty-dirs --no-resave-data CoGAPS StartedAt: 2025-10-27 16:27:17 -0400 (Mon, 27 Oct 2025) EndedAt: 2025-10-27 16:29:13 -0400 (Mon, 27 Oct 2025) EllapsedTime: 116.2 seconds RetCode: 0 Status: OK PackageFile: CoGAPS_3.29.1.tar.gz PackageFileSize: 19.83 MiB