Package: CoGAPS Version: 3.29.1 Command: /Library/Frameworks/R.framework/Resources/bin/R CMD INSTALL CoGAPS StartedAt: 2025-10-15 15:13:05 -0400 (Wed, 15 Oct 2025) EndedAt: 2025-10-15 15:13:47 -0400 (Wed, 15 Oct 2025) EllapsedTime: 42.2 seconds RetCode: 0 Status: OK