Package: CoGAPS Version: 3.29.1 Command: /Library/Frameworks/R.framework/Resources/bin/R CMD build --keep-empty-dirs --no-resave-data CoGAPS StartedAt: 2025-10-15 15:59:45 -0400 (Wed, 15 Oct 2025) EndedAt: 2025-10-15 16:00:27 -0400 (Wed, 15 Oct 2025) EllapsedTime: 41.5 seconds RetCode: 0 Status: OK PackageFile: CoGAPS_3.29.1.tar.gz PackageFileSize: 19.83 MiB