Package: CoCiteStats Version: 1.81.0 Command: /home/biocbuild/bbs-3.22-bioc/R/bin/R CMD check --install=check:CoCiteStats.install-out.txt --library=/home/biocbuild/bbs-3.22-bioc/R/site-library --timings CoCiteStats_1.81.0.tar.gz StartedAt: 2025-10-28 22:12:20 -0400 (Tue, 28 Oct 2025) EndedAt: 2025-10-28 22:16:03 -0400 (Tue, 28 Oct 2025) EllapsedTime: 223.2 seconds RetCode: 0 Status: OK CheckDir: CoCiteStats.Rcheck Warnings: 0