Package: CoCiteStats Version: 1.81.0 Command: /Library/Frameworks/R.framework/Resources/bin/R CMD INSTALL CoCiteStats StartedAt: 2025-10-09 15:33:14 -0400 (Thu, 09 Oct 2025) EndedAt: 2025-10-09 15:33:32 -0400 (Thu, 09 Oct 2025) EllapsedTime: 18.2 seconds RetCode: 0 Status: OK