Package: ClusterSignificance Version: 1.37.0 Command: /home/biocbuild/R/R/bin/R CMD INSTALL ClusterSignificance StartedAt: 2025-09-29 20:34:23 -0000 (Mon, 29 Sep 2025) EndedAt: 2025-09-29 20:35:07 -0000 (Mon, 29 Sep 2025) EllapsedTime: 44.2 seconds RetCode: 0 Status: OK