Package: ClusterSignificance Version: 1.39.0 Command: /home/biocbuild/bbs-3.23-bioc/R/bin/R CMD INSTALL ClusterSignificance StartedAt: 2025-10-31 15:13:45 -0400 (Fri, 31 Oct 2025) EndedAt: 2025-10-31 15:13:56 -0400 (Fri, 31 Oct 2025) EllapsedTime: 11.4 seconds RetCode: 0 Status: OK