Package: ClusterSignificance Version: 1.39.0 Command: /home/biocbuild/bbs-3.23-bioc/R/bin/R CMD build --keep-empty-dirs --no-resave-data ClusterSignificance StartedAt: 2025-10-31 17:06:13 -0400 (Fri, 31 Oct 2025) EndedAt: 2025-10-31 17:07:15 -0400 (Fri, 31 Oct 2025) EllapsedTime: 62.1 seconds RetCode: 0 Status: OK PackageFile: ClusterSignificance_1.39.0.tar.gz PackageFileSize: 1.828 MiB