Package: ClusterJudge Version: 1.31.0 Command: /home/biocbuild/R/R/bin/R CMD INSTALL ClusterJudge StartedAt: 2025-10-09 21:03:46 -0000 (Thu, 09 Oct 2025) EndedAt: 2025-10-09 21:04:07 -0000 (Thu, 09 Oct 2025) EllapsedTime: 21.0 seconds RetCode: 0 Status: OK