Package: ClusterJudge Version: 1.31.0 Command: /home/biocbuild/R/R/bin/R CMD build --keep-empty-dirs --no-resave-data ClusterJudge StartedAt: 2025-10-09 23:35:54 -0000 (Thu, 09 Oct 2025) EndedAt: 2025-10-09 23:36:55 -0000 (Thu, 09 Oct 2025) EllapsedTime: 61.0 seconds RetCode: 0 Status: OK PackageFile: ClusterJudge_1.31.0.tar.gz PackageFileSize: 864.2 KiB