Package: ClusterJudge Version: 1.31.0 Command: chmod a+r ClusterJudge -R && F:\biocbuild\bbs-3.22-bioc\R\bin\R.exe CMD build --keep-empty-dirs --no-resave-data ClusterJudge StartedAt: 2025-08-14 19:11:05 -0400 (Thu, 14 Aug 2025) EndedAt: 2025-08-14 19:12:24 -0400 (Thu, 14 Aug 2025) EllapsedTime: 78.9 seconds RetCode: 0 Status: OK PackageFile: ClusterJudge_1.31.0.tar.gz PackageFileSize: 845 KiB