Package: ClusterJudge Version: 1.31.0 Command: rm -rf ClusterJudge.buildbin-libdir && mkdir ClusterJudge.buildbin-libdir && F:\biocbuild\bbs-3.22-bioc\R\bin\R.exe CMD INSTALL --build --library=ClusterJudge.buildbin-libdir ClusterJudge_1.31.0.tar.gz StartedAt: 2025-08-15 09:58:48 -0400 (Fri, 15 Aug 2025) EndedAt: 2025-08-15 09:58:58 -0400 (Fri, 15 Aug 2025) EllapsedTime: 10.6 seconds RetCode: 0 Status: OK PackageFile: ClusterJudge_1.31.0.zip PackageFileSize: 4.283 MiB