Package: ClusterJudge Version: 1.31.0 Command: /home/biocbuild/bbs-3.22-bioc/R/bin/R CMD check --install=check:ClusterJudge.install-out.txt --library=/home/biocbuild/bbs-3.22-bioc/R/site-library --timings ClusterJudge_1.31.0.tar.gz StartedAt: 2025-10-03 22:19:20 -0400 (Fri, 03 Oct 2025) EndedAt: 2025-10-03 22:22:35 -0400 (Fri, 03 Oct 2025) EllapsedTime: 195.2 seconds RetCode: 0 Status: OK CheckDir: ClusterJudge.Rcheck Warnings: 0