Package: ClusterJudge Version: 1.33.0 Command: /home/biocbuild/bbs-3.23-bioc/R/bin/R CMD INSTALL ClusterJudge StartedAt: 2025-11-20 15:10:53 -0500 (Thu, 20 Nov 2025) EndedAt: 2025-11-20 15:11:07 -0500 (Thu, 20 Nov 2025) EllapsedTime: 13.7 seconds RetCode: 0 Status: OK