Package: ClusterJudge Version: 1.33.0 Command: /home/biocbuild/bbs-3.23-bioc/R/bin/R CMD check --install=check:ClusterJudge.install-out.txt --library=/home/biocbuild/bbs-3.23-bioc/R/site-library --timings ClusterJudge_1.33.0.tar.gz StartedAt: 2025-11-21 22:08:46 -0500 (Fri, 21 Nov 2025) EndedAt: 2025-11-21 22:12:00 -0500 (Fri, 21 Nov 2025) EllapsedTime: 194.1 seconds RetCode: 0 Status: OK CheckDir: ClusterJudge.Rcheck Warnings: 0