Package: ClusterJudge Version: 1.33.0 Command: /home/biocbuild/bbs-3.23-bioc/R/bin/R CMD build --keep-empty-dirs --no-resave-data ClusterJudge StartedAt: 2025-11-20 16:51:40 -0500 (Thu, 20 Nov 2025) EndedAt: 2025-11-20 16:52:23 -0500 (Thu, 20 Nov 2025) EllapsedTime: 43.0 seconds RetCode: 0 Status: OK PackageFile: ClusterJudge_1.33.0.tar.gz PackageFileSize: 940.8 KiB