Package: ClusterGVis Version: 0.99.9 Command: /home/biocbuild/bbs-3.23-bioc/R/bin/R CMD INSTALL ClusterGVis StartedAt: 2025-11-20 15:22:45 -0500 (Thu, 20 Nov 2025) EndedAt: 2025-11-20 15:23:17 -0500 (Thu, 20 Nov 2025) EllapsedTime: 32.1 seconds RetCode: 0 Status: OK