Package: ClusterGVis Version: 0.99.9 Command: /home/biocbuild/bbs-3.23-bioc/R/bin/R CMD check --install=check:ClusterGVis.install-out.txt --library=/home/biocbuild/bbs-3.23-bioc/R/site-library --timings ClusterGVis_0.99.9.tar.gz StartedAt: 2025-11-20 22:08:52 -0500 (Thu, 20 Nov 2025) EndedAt: 2025-11-20 22:16:24 -0500 (Thu, 20 Nov 2025) EllapsedTime: 451.6 seconds RetCode: 0 Status: OK CheckDir: ClusterGVis.Rcheck Warnings: 0