Package: ClusterGVis Version: 0.99.9 Command: /Library/Frameworks/R.framework/Resources/bin/R CMD INSTALL ClusterGVis StartedAt: 2025-11-20 15:29:23 -0500 (Thu, 20 Nov 2025) EndedAt: 2025-11-20 15:30:08 -0500 (Thu, 20 Nov 2025) EllapsedTime: 45.0 seconds RetCode: 0 Status: OK