Package: ClusterGVis Version: 0.99.9 Command: /Library/Frameworks/R.framework/Resources/bin/R CMD build --keep-empty-dirs --no-resave-data ClusterGVis StartedAt: 2025-11-20 16:30:55 -0500 (Thu, 20 Nov 2025) EndedAt: 2025-11-20 16:32:31 -0500 (Thu, 20 Nov 2025) EllapsedTime: 96.0 seconds RetCode: 0 Status: OK PackageFile: ClusterGVis_0.99.9.tar.gz PackageFileSize: 2.555 MiB