Package: ClusterGVis Version: 0.99.9 Command: rm -rf ClusterGVis.buildbin-libdir && mkdir ClusterGVis.buildbin-libdir && /Users/biocbuild/BBS/utils/build-universal.sh ClusterGVis_0.99.9.tar.gz /Library/Frameworks/R.framework/Resources/bin/R ClusterGVis.buildbin-libdir StartedAt: 2025-11-21 01:27:05 -0500 (Fri, 21 Nov 2025) EndedAt: 2025-11-21 01:27:46 -0500 (Fri, 21 Nov 2025) EllapsedTime: 40.6 seconds RetCode: 0 Status: OK PackageFile: ClusterGVis_0.99.9.tgz PackageFileSize: 2.066 MiB