Package: ClusterGVis Version: 0.99.9 Command: /Library/Frameworks/R.framework/Resources/bin/R CMD check --install=check:ClusterGVis.install-out.txt --library=/Library/Frameworks/R.framework/Resources/library --no-vignettes --timings ClusterGVis_0.99.9.tar.gz StartedAt: 2025-11-21 19:04:22 -0500 (Fri, 21 Nov 2025) EndedAt: 2025-11-21 19:07:40 -0500 (Fri, 21 Nov 2025) EllapsedTime: 197.6 seconds RetCode: 0 Status: OK CheckDir: ClusterGVis.Rcheck Warnings: 0