Package: ClusterGVis Version: 0.99.9 Command: /Library/Frameworks/R.framework/Resources/bin/R CMD build --keep-empty-dirs --no-resave-data ClusterGVis StartedAt: 2025-11-20 15:55:51 -0500 (Thu, 20 Nov 2025) EndedAt: 2025-11-20 15:56:25 -0500 (Thu, 20 Nov 2025) EllapsedTime: 34.4 seconds RetCode: 0 Status: OK PackageFile: ClusterGVis_0.99.9.tar.gz PackageFileSize: 2.554 MiB