Package: ClusterGVis Version: 0.99.9 Command: rm -rf ClusterGVis.buildbin-libdir && mkdir ClusterGVis.buildbin-libdir && /Users/biocbuild/BBS/utils/build-universal.sh ClusterGVis_0.99.9.tar.gz /Library/Frameworks/R.framework/Resources/bin/R ClusterGVis.buildbin-libdir StartedAt: 2025-11-20 23:27:52 -0500 (Thu, 20 Nov 2025) EndedAt: 2025-11-20 23:28:06 -0500 (Thu, 20 Nov 2025) EllapsedTime: 13.3 seconds RetCode: 0 Status: OK PackageFile: ClusterGVis_0.99.9.tgz PackageFileSize: 2.067 MiB