Package: ClusterGVis Version: 0.99.9 Maintainer: Jun Zhang MaintainerEmail: 1138976957 at qq.com git_url: https://git.bioconductor.org/packages/ClusterGVis git_branch: devel git_last_commit: 15fc470 git_last_commit_date: 2025-11-12 20:39:49 -0500 (Wed, 12 Nov 2025)