Package: ClusterFoldSimilarity Version: 1.5.0 Command: /home/biocbuild/R/R/bin/R CMD INSTALL ClusterFoldSimilarity StartedAt: 2025-10-06 20:35:34 -0000 (Mon, 06 Oct 2025) EndedAt: 2025-10-06 20:36:24 -0000 (Mon, 06 Oct 2025) EllapsedTime: 49.4 seconds RetCode: 0 Status: OK