Package: ClusterFoldSimilarity Version: 1.5.0 Command: /home/biocbuild/R/R/bin/R CMD build --keep-empty-dirs --no-resave-data ClusterFoldSimilarity StartedAt: 2025-10-06 22:41:59 -0000 (Mon, 06 Oct 2025) EndedAt: 2025-10-06 23:02:18 -0000 (Mon, 06 Oct 2025) EllapsedTime: 1219.9 seconds RetCode: 0 Status: OK PackageFile: ClusterFoldSimilarity_1.5.0.tar.gz PackageFileSize: 834.3 KiB