Package: ClusterFoldSimilarity Version: 1.5.0 Command: F:\biocbuild\bbs-3.22-bioc\R\bin\R.exe CMD INSTALL ClusterFoldSimilarity StartedAt: 2025-08-14 16:09:21 -0400 (Thu, 14 Aug 2025) EndedAt: 2025-08-14 16:10:13 -0400 (Thu, 14 Aug 2025) EllapsedTime: 52.6 seconds RetCode: 0 Status: OK