Package: ClusterFoldSimilarity Version: 1.5.0 Command: chmod a+r ClusterFoldSimilarity -R && F:\biocbuild\bbs-3.22-bioc\R\bin\R.exe CMD build --keep-empty-dirs --no-resave-data ClusterFoldSimilarity StartedAt: 2025-08-14 19:11:04 -0400 (Thu, 14 Aug 2025) EndedAt: 2025-08-14 19:24:28 -0400 (Thu, 14 Aug 2025) EllapsedTime: 803.7 seconds RetCode: 0 Status: OK PackageFile: ClusterFoldSimilarity_1.5.0.tar.gz PackageFileSize: 859.9 KiB