Package: ClusterFoldSimilarity Version: 1.5.0 Command: rm -rf ClusterFoldSimilarity.buildbin-libdir && mkdir ClusterFoldSimilarity.buildbin-libdir && F:\biocbuild\bbs-3.22-bioc\R\bin\R.exe CMD INSTALL --build --library=ClusterFoldSimilarity.buildbin-libdir ClusterFoldSimilarity_1.5.0.tar.gz StartedAt: 2025-08-15 09:58:46 -0400 (Fri, 15 Aug 2025) EndedAt: 2025-08-15 10:00:35 -0400 (Fri, 15 Aug 2025) EllapsedTime: 110.0 seconds RetCode: 0 Status: OK PackageFile: ClusterFoldSimilarity_1.5.0.zip PackageFileSize: 890.1 KiB