Package: ClusterFoldSimilarity Version: 1.7.0 Command: /home/biocbuild/bbs-3.23-bioc/R/bin/R CMD check --install=check:ClusterFoldSimilarity.install-out.txt --library=/home/biocbuild/bbs-3.23-bioc/R/site-library --timings ClusterFoldSimilarity_1.7.0.tar.gz StartedAt: 2025-11-06 21:56:44 -0500 (Thu, 06 Nov 2025) EndedAt: 2025-11-06 22:08:45 -0500 (Thu, 06 Nov 2025) EllapsedTime: 721.0 seconds RetCode: 0 Status: WARNINGS CheckDir: ClusterFoldSimilarity.Rcheck Warnings: 1