Package: ClustIRR Version: 1.7.9 Command: /home/biocbuild/R/R/bin/R CMD INSTALL ClustIRR StartedAt: 2025-09-29 20:38:51 -0000 (Mon, 29 Sep 2025) EndedAt: 2025-09-29 20:43:32 -0000 (Mon, 29 Sep 2025) EllapsedTime: 280.8 seconds RetCode: 0 Status: OK