Package: ClustIRR Version: 1.7.9 Command: /home/biocbuild/R/R/bin/R CMD build --keep-empty-dirs --no-resave-data ClustIRR StartedAt: 2025-09-29 22:58:35 -0000 (Mon, 29 Sep 2025) EndedAt: 2025-09-29 23:06:11 -0000 (Mon, 29 Sep 2025) EllapsedTime: 456.2 seconds RetCode: 0 Status: OK PackageFile: ClustIRR_1.7.9.tar.gz PackageFileSize: 3.073 MiB