Package: ClustIRR Version: 1.7.9 Command: /home/biocbuild/bbs-3.22-bioc/R/bin/R CMD check --install=check:ClustIRR.install-out.txt --library=/home/biocbuild/bbs-3.22-bioc/R/site-library --timings ClustIRR_1.7.9.tar.gz StartedAt: 2025-10-06 22:22:17 -0400 (Mon, 06 Oct 2025) EndedAt: 2025-10-06 22:44:25 -0400 (Mon, 06 Oct 2025) EllapsedTime: 1327.5 seconds RetCode: 0 Status: OK CheckDir: ClustIRR.Rcheck Warnings: 0