Package: ClustIRR Version: 1.9.0 Command: /home/biocbuild/bbs-3.23-bioc/R/bin/R CMD check --install=check:ClustIRR.install-out.txt --library=/home/biocbuild/bbs-3.23-bioc/R/site-library --timings ClustIRR_1.9.0.tar.gz StartedAt: 2025-11-20 22:11:35 -0500 (Thu, 20 Nov 2025) EndedAt: 2025-11-20 22:25:52 -0500 (Thu, 20 Nov 2025) EllapsedTime: 856.2 seconds RetCode: 0 Status: OK CheckDir: ClustIRR.Rcheck Warnings: 0