Package: ClustIRR Version: 1.7.9 Maintainer: Simo Kitanovski MaintainerEmail: simokitanovski at gmail.com git_url: https://git.bioconductor.org/packages/ClustIRR git_branch: devel git_last_commit: 13757c0 git_last_commit_date: 2025-09-15 07:52:07 -0400 (Mon, 15 Sep 2025)