Package: ClustAll Version: 1.7.0 Command: /home/biocbuild/bbs-3.23-bioc/R/bin/R CMD build --keep-empty-dirs --no-resave-data ClustAll StartedAt: 2025-11-20 16:51:07 -0500 (Thu, 20 Nov 2025) EndedAt: 2025-11-20 16:55:11 -0500 (Thu, 20 Nov 2025) EllapsedTime: 244.2 seconds RetCode: 0 Status: OK PackageFile: ClustAll_1.7.0.tar.gz PackageFileSize: 2.948 MiB