Package: ClustAll Version: 1.5.0 Command: /Library/Frameworks/R.framework/Resources/bin/R CMD build --keep-empty-dirs --no-resave-data ClustAll StartedAt: 2025-10-14 16:30:24 -0400 (Tue, 14 Oct 2025) EndedAt: 2025-10-14 16:35:35 -0400 (Tue, 14 Oct 2025) EllapsedTime: 310.8 seconds RetCode: 0 Status: OK PackageFile: ClustAll_1.5.0.tar.gz PackageFileSize: 2.944 MiB