Package: ClustAll Version: 1.5.0 Command: rm -rf ClustAll.buildbin-libdir && mkdir ClustAll.buildbin-libdir && /Users/biocbuild/BBS/utils/build-universal.sh ClustAll_1.5.0.tar.gz /Library/Frameworks/R.framework/Resources/bin/R ClustAll.buildbin-libdir StartedAt: 2025-10-15 02:37:15 -0400 (Wed, 15 Oct 2025) EndedAt: 2025-10-15 02:37:53 -0400 (Wed, 15 Oct 2025) EllapsedTime: 37.9 seconds RetCode: 0 Status: OK PackageFile: ClustAll_1.5.0.tgz PackageFileSize: 2.281 MiB