Package: ClustAll Version: 1.5.0 Command: /Library/Frameworks/R.framework/Resources/bin/R CMD INSTALL ClustAll StartedAt: 2025-10-02 15:32:11 -0400 (Thu, 02 Oct 2025) EndedAt: 2025-10-02 15:32:20 -0400 (Thu, 02 Oct 2025) EllapsedTime: 9.2 seconds RetCode: 0 Status: OK