Package: ClustAll Version: 1.5.0 Command: /Library/Frameworks/R.framework/Resources/bin/R CMD build --keep-empty-dirs --no-resave-data ClustAll StartedAt: 2025-10-03 15:56:43 -0400 (Fri, 03 Oct 2025) EndedAt: 2025-10-03 15:58:29 -0400 (Fri, 03 Oct 2025) EllapsedTime: 106.2 seconds RetCode: 0 Status: OK PackageFile: ClustAll_1.5.0.tar.gz PackageFileSize: 2.948 MiB