Package: ClustAll Version: 1.7.0 Maintainer: Asier Ortega-Legarreta MaintainerEmail: aortegal at navarra.es git_url: https://git.bioconductor.org/packages/ClustAll git_branch: devel git_last_commit: e78dc53 git_last_commit_date: 2025-10-29 11:29:16 -0400 (Wed, 29 Oct 2025)