Package: CluMSID Version: 1.27.0 Command: /home/biocbuild/bbs-3.23-bioc/R/bin/R CMD INSTALL CluMSID StartedAt: 2025-11-20 15:37:40 -0500 (Thu, 20 Nov 2025) EndedAt: 2025-11-20 15:38:27 -0500 (Thu, 20 Nov 2025) EllapsedTime: 47.0 seconds RetCode: 0 Status: OK