Package: CluMSID Version: 1.27.0 Command: /home/biocbuild/bbs-3.23-bioc/R/bin/R CMD build --keep-empty-dirs --no-resave-data CluMSID StartedAt: 2025-11-20 16:51:05 -0500 (Thu, 20 Nov 2025) EndedAt: 2025-11-20 16:56:35 -0500 (Thu, 20 Nov 2025) EllapsedTime: 330.3 seconds RetCode: 0 Status: OK PackageFile: CluMSID_1.27.0.tar.gz PackageFileSize: 4.483 MiB