Package: CluMSID Version: 1.25.0 Command: /Library/Frameworks/R.framework/Resources/bin/R CMD INSTALL CluMSID StartedAt: 2025-10-10 15:26:15 -0400 (Fri, 10 Oct 2025) EndedAt: 2025-10-10 15:26:32 -0400 (Fri, 10 Oct 2025) EllapsedTime: 17.4 seconds RetCode: 0 Status: OK